BEGIN:VCALENDAR
VERSION:2.0
PRODID:-//Caulfield Glasshouse - ECPv5.0.1//NONSGML v1.0//EN
CALSCALE:GREGORIAN
METHOD:PUBLISH
X-WR-CALNAME:Caulfield Glasshouse
X-ORIGINAL-URL:http://www.caulfieldglasshouse.com.au
X-WR-CALDESC:Events for Caulfield Glasshouse
BEGIN:VTIMEZONE
TZID:Australia/Melbourne
BEGIN:STANDARD
TZOFFSETFROM:+1100
TZOFFSETTO:+1000
TZNAME:AEST
DTSTART:20200404T160000
END:STANDARD
BEGIN:DAYLIGHT
TZOFFSETFROM:+1000
TZOFFSETTO:+1100
TZNAME:AEDT
DTSTART:20201003T160000
END:DAYLIGHT
END:VTIMEZONE
BEGIN:VEVENT
DTSTART;TZID=Australia/Melbourne:20200301T090000
DTEND;TZID=Australia/Melbourne:20200430T233000
DTSTAMP:20200301T045012
CREATED:20200228T015815Z
LAST-MODIFIED:20200228T015815Z
UID:1306-1583053200-1588289400@www.caulfieldglasshouse.com.au
SUMMARY:March & April Drinks Of The Month
DESCRIPTION:Join us throughout March & April to take advantage of these great offers! \n\n$7.50 – Glass of Pepperjack Shiraz\n$13.00 – Large Glass of Pepperjack Shiraz\n$38.00 – Bottle of Pepperjack Shiraz\n$7.00 – Corona bottle\n$22.00 – Bucket of 4 Coronas\n$7.00 – Great Northern Pint\n$7.00 – Johnnie Walker Red\n$8.00 – Upgrade to Johnnie Walker Black\n\nThis venue practices responsible service \n*Conditions apply \n
URL:http://www.caulfieldglasshouse.com.au/event/march-april-drinks-of-the-month/
CATEGORIES:featured
ATTACH;FMTTYPE=image/jpeg:http://www.caulfieldglasshouse.com.au/wp-content/uploads/2020/02/Drinks-of-the-month_Digital_MARCHAPRIL_20-01_TV-WIDE-scaled.jpg
END:VEVENT
END:VCALENDAR